BEGIN:VCALENDAR
VERSION:2.0
PRODID:-//Grimly Adorable - ECPv6.15.13//NONSGML v1.0//EN
CALSCALE:GREGORIAN
METHOD:PUBLISH
X-WR-CALNAME:Grimly Adorable
X-ORIGINAL-URL:https://grimlyadorable.com
X-WR-CALDESC:Évènements pour Grimly Adorable
REFRESH-INTERVAL;VALUE=DURATION:PT1H
X-Robots-Tag:noindex
X-PUBLISHED-TTL:PT1H
BEGIN:VTIMEZONE
TZID:Europe/Paris
BEGIN:DAYLIGHT
TZOFFSETFROM:+0100
TZOFFSETTO:+0200
TZNAME:CEST
DTSTART:20240331T010000
END:DAYLIGHT
BEGIN:STANDARD
TZOFFSETFROM:+0200
TZOFFSETTO:+0100
TZNAME:CET
DTSTART:20241027T010000
END:STANDARD
BEGIN:DAYLIGHT
TZOFFSETFROM:+0100
TZOFFSETTO:+0200
TZNAME:CEST
DTSTART:20250330T010000
END:DAYLIGHT
BEGIN:STANDARD
TZOFFSETFROM:+0200
TZOFFSETTO:+0100
TZNAME:CET
DTSTART:20251026T010000
END:STANDARD
BEGIN:DAYLIGHT
TZOFFSETFROM:+0100
TZOFFSETTO:+0200
TZNAME:CEST
DTSTART:20260329T010000
END:DAYLIGHT
BEGIN:STANDARD
TZOFFSETFROM:+0200
TZOFFSETTO:+0100
TZNAME:CET
DTSTART:20261025T010000
END:STANDARD
END:VTIMEZONE
BEGIN:VEVENT
DTSTART;TZID=Europe/Paris:20251129T100000
DTEND;TZID=Europe/Paris:20251130T190000
DTSTAMP:20260420T083256
CREATED:20251027T192534Z
LAST-MODIFIED:20251027T200149Z
UID:957-1764410400-1764529200@grimlyadorable.com
SUMMARY:🎄Marché de Noël - Loos (59)🎄
DESCRIPTION:🎄 Grimly Adorable au Marché de Noël ! 🎄 \nJe suis ravie de vous annoncer que Grimly Adorable participera cette année au Marché de Noël de Loos ! Venez découvrir mes créations uniques\, parfaites pour vos cadeaux de Noël ou pour vous faire plaisir. \nPlongez dans une ambiance festive et chaleureuse\, et partageons ensemble un moment de magie et de convivialité. J’ai hâte de vous y rencontrer ! ✨
URL:https://grimlyadorable.com/index.php/event/marche-de-noel/
LOCATION:La Fileuse\, 81 Rue du Maréchal Foch\, Loos\, Nord\, 59120\, France
CATEGORIES:Marché de Noël
END:VEVENT
END:VCALENDAR