BEGIN:VCALENDAR
VERSION:2.0
PRODID:-//Grimly Adorable - ECPv6.15.13//NONSGML v1.0//EN
CALSCALE:GREGORIAN
METHOD:PUBLISH
X-WR-CALNAME:Grimly Adorable
X-ORIGINAL-URL:https://grimlyadorable.com
X-WR-CALDESC:Évènements pour Grimly Adorable
REFRESH-INTERVAL;VALUE=DURATION:PT1H
X-Robots-Tag:noindex
X-PUBLISHED-TTL:PT1H
BEGIN:VTIMEZONE
TZID:Europe/Paris
BEGIN:DAYLIGHT
TZOFFSETFROM:+0100
TZOFFSETTO:+0200
TZNAME:CEST
DTSTART:20240331T010000
END:DAYLIGHT
BEGIN:STANDARD
TZOFFSETFROM:+0200
TZOFFSETTO:+0100
TZNAME:CET
DTSTART:20241027T010000
END:STANDARD
BEGIN:DAYLIGHT
TZOFFSETFROM:+0100
TZOFFSETTO:+0200
TZNAME:CEST
DTSTART:20250330T010000
END:DAYLIGHT
BEGIN:STANDARD
TZOFFSETFROM:+0200
TZOFFSETTO:+0100
TZNAME:CET
DTSTART:20251026T010000
END:STANDARD
BEGIN:DAYLIGHT
TZOFFSETFROM:+0100
TZOFFSETTO:+0200
TZNAME:CEST
DTSTART:20260329T010000
END:DAYLIGHT
BEGIN:STANDARD
TZOFFSETFROM:+0200
TZOFFSETTO:+0100
TZNAME:CET
DTSTART:20261025T010000
END:STANDARD
END:VTIMEZONE
BEGIN:VEVENT
DTSTART;TZID=Europe/Paris:20251206T080000
DTEND;TZID=Europe/Paris:20251206T190000
DTSTAMP:20260420T035427
CREATED:20251027T193521Z
LAST-MODIFIED:20251027T200124Z
UID:964-1765008000-1765047600@grimlyadorable.com
SUMMARY:🎄Marché de Noël - Coquelles (62)🎄
DESCRIPTION:🎄 Grimly Adorable au Marché de Noël ! 🎄 \nJe suis ravie de vous annoncer que Grimly Adorable participera cette année au Marché de Noël de Coquelles ! Venez découvrir mes créations uniques\, parfaites pour vos cadeaux de Noël ou pour vous faire plaisir. \nPlongez dans une ambiance festive et chaleureuse\, et partageons ensemble un moment de magie et de convivialité. J’ai hâte de vous y rencontrer ! ✨
URL:https://grimlyadorable.com/index.php/event/marche-de-noel-coquelles/
LOCATION:Salle poidevin\, Rue des Châtaigniers\, Coquelles\, Pas de Calais\, 62231\, France
CATEGORIES:Marché de Noël
ORGANIZER;CN="association challenge kyprian":MAILTO:assochallengekyprian@gmail.com
END:VEVENT
BEGIN:VEVENT
DTSTART;TZID=Europe/Paris:20251207T140000
DTEND;TZID=Europe/Paris:20251207T190000
DTSTAMP:20260420T035427
CREATED:20251027T194934Z
LAST-MODIFIED:20251027T200138Z
UID:963-1765116000-1765134000@grimlyadorable.com
SUMMARY:🎄Marché de Noël Mystique et Underground - Lille (59)🎄
DESCRIPTION:🎄 Grimly Adorable au Marché de Noël ! 🎄 \nJe suis ravie de vous annoncer que Grimly Adorable participera cette année au Marché Mystique et Underground ! Venez découvrir mes créations uniques\, parfaites pour vos cadeaux de Noël ou pour vous faire plaisir. \nPlongez dans une ambiance festive et chaleureuse\, et partageons ensemble un moment de magie et de convivialité. J’ai hâte de vous y rencontrer ! ✨
URL:https://grimlyadorable.com/index.php/event/marche-de-noel-mystique-et-underground-lille-59/
LOCATION:La Brat Cave\, 113 rue Barthélémy Delespaul\, Lille\, Nord\, 59000\, France
CATEGORIES:Marché de Noël
END:VEVENT
END:VCALENDAR